BEGIN:VCALENDAR
VERSION:2.0
PRODID:-//Mobil Kod//Etkinlik//TR
BEGIN:VEVENT
UID:69e88bdd5e9e7@kaihl.kallavinet.net
DTSTAMP:20260422T115037Z
DTSTART:20221214T132000
DTEND:20221214T150500
SUMMARY:Şiirin Sesi Atölyesi
DESCRIPTION:
LOCATION:Konferans Salonu
END:VEVENT
END:VCALENDAR