BEGIN:VCALENDAR
VERSION:2.0
PRODID:-//Mobil Kod//Etkinlik//TR
BEGIN:VEVENT
UID:69e8a0c24f181@kaihl.kallavinet.net
DTSTAMP:20260422T131946Z
DTSTART:20260422T131946
DTEND:20260422T141946
SUMMARY:Kızdargül Sağdıç
DESCRIPTION:
LOCATION:
END:VEVENT
END:VCALENDAR